BEGIN:VCALENDAR
VERSION:2.0
PRODID:-//wp-events-plugin.com//7.2.3.1//EN
TZID:Europe/Berlin
X-WR-TIMEZONE:Europe/Berlin
BEGIN:VEVENT
UID:15@schriftsteller-bayern.de
DTSTART;TZID=Europe/Berlin:20220408T150000
DTEND;TZID=Europe/Berlin:20220408T173000
DTSTAMP:20220312T205212Z
URL:https://schriftsteller-bayern.de/events/auf-den-spuren-carl-amerys-in-
 passau/
SUMMARY:Rundgang: Auf den Spuren Carl Amerys in Passau
DESCRIPTION:Mitwirkende: Mario Puhane und Richard Schaffner\n\nErkunden Sie
  gemeinsam mit den Archivaren Mario Puhane und Richard Schaffner die Stadt
  Passau auf den Spuren von Carl Amery: Noch heute können sowohl Bezüge z
 u Amery und seiner Familie selbst (Rathaus mit Rathausturm\, Wohnhaus in d
 er Bräugasse\, Gymnasium Leopoldinum\, Hochschule Passau) als auch Belege
  aus dem Roman „Der Untergang der Stadt Passau“ (Domstadt\, Residenz u
 nd Residenzplatz\, Rathaus\, Salzhandelsorganisation\, Ober- und Niederhau
 s\, Donau\, Ort und Ortspitze) entdeckt werden.\n\nOrganisationen: KEB - K
 atholische Erwachsenenbildung in Stadt und Landkreis Passau e.V.\n\nEintri
 ttspreis | 5\,00 E\n\nTreffpunkt Fünferlsteg (Mitte)\n\nAnmeldung erbeten
  bei www.keb-passau.de oder 0851/393-4501\n\nLink zur Veranstaltung auf ww
 w.keb-passau.de\n\n
LOCATION:Fünflesweg (Mitte)\, Fünflesweg\, Passau\, Deutschland
X-APPLE-STRUCTURED-LOCATION;VALUE=URI;X-ADDRESS=Fünflesweg\, Passau\, Deut
 schland;X-APPLE-RADIUS=100;X-TITLE=Fünflesweg (Mitte):geo:0,0
END:VEVENT
BEGIN:VTIMEZONE
TZID:Europe/Berlin
X-LIC-LOCATION:Europe/Berlin
BEGIN:DAYLIGHT
DTSTART:20220327T030000
TZOFFSETFROM:+0100
TZOFFSETTO:+0200
TZNAME:CEST
END:DAYLIGHT
END:VTIMEZONE
END:VCALENDAR