BEGIN:VCALENDAR
VERSION:2.0
PRODID:-//wp-events-plugin.com//7.2.3.1//EN
TZID:Europe/Berlin
X-WR-TIMEZONE:Europe/Berlin
BEGIN:VEVENT
UID:18@schriftsteller-bayern.de
DTSTART;TZID=Europe/Berlin:20220408T200000
DTEND;TZID=Europe/Berlin:20220408T200000
DTSTAMP:20220312T205651Z
URL:https://schriftsteller-bayern.de/events/film-die-zeit-die-wir-noch-hab
 en/
SUMMARY:Film: Die Zeit die wir noch haben. Carl Amery – ein bayerischer Q
 uerdenker
DESCRIPTION:Ein Film von Vera Botterbusch\, 45 Min.\, BR 1991\n\nFilmpräse
 ntation mit Einführung und anschließendem Gespräch\n\nDie Herkunft aus 
 dem gebildeten und weltoffenen katholischen Bildungsbürgertum\, die Schul
 jahre in Freising und Passau\, die Studienjahre in den USA haben den Münc
 hner Schriftsteller Carl Amery entscheidend geprägt und ihn zu einer humo
 rigen und dennoch scharfen Auseinandersetzung mit den Zukunftsaussichten e
 iner stetig wachsenden Gesellschaft und zu einem kritischen Blick auf sein
 e geliebte Heimat angeregt.\n\nDer Film von Vera Botterbusch führt in die
  geistige Welt dieses bodenständigen Visionärs\, der mit seiner zornigen
  Liebe zu Bayern spielerisch zwischen Vergangenheit und Zukunft\, Wissensc
 haft und Science Fiktion pendelt und daraus die Gegenwart begreift.\n\nOrg
 anisationen: Vera Botterbusch\n\nEintrittspreis | 12\,00 € / ermäßigt 
 8\,00 €\n\nReservierung unter Tel. 089 35757563\, tickets@kultur-forum2.
 de\n\nAnfahrt: U3 bis Olympiazentrum\n\nLink zur Veranstaltung auf ticketh
 ome.at\n\n
LOCATION:Forum 2\, Kulturzentrum im Olympiadorf\, Nadistraße 3\, München\
 , 80809 \, Deutschland
X-APPLE-STRUCTURED-LOCATION;VALUE=URI;X-ADDRESS=Nadistraße 3\, München\, 
 80809 \, Deutschland;X-APPLE-RADIUS=100;X-TITLE=Forum 2\, Kulturzentrum im
  Olympiadorf:geo:0,0
END:VEVENT
BEGIN:VTIMEZONE
TZID:Europe/Berlin
X-LIC-LOCATION:Europe/Berlin
BEGIN:DAYLIGHT
DTSTART:20220327T030000
TZOFFSETFROM:+0100
TZOFFSETTO:+0200
TZNAME:CEST
END:DAYLIGHT
END:VTIMEZONE
END:VCALENDAR