BEGIN:VCALENDAR
VERSION:2.0
PRODID:-//wp-events-plugin.com//7.2.3.1//EN
TZID:Europe/Berlin
X-WR-TIMEZONE:Europe/Berlin
BEGIN:VEVENT
UID:11@schriftsteller-bayern.de
DTSTART;TZID=Europe/Berlin:20220406T150000
DTEND;TZID=Europe/Berlin:20220406T173000
DTSTAMP:20220312T204938Z
URL:https://schriftsteller-bayern.de/events/kinderlesung-schluss-mit-plast
 ik/
SUMMARY:Lesung für Kinder: Die Klima-Checker. Schluss mit Plastik
DESCRIPTION:Interaktive Lesung für Kinder ab 8 Jahren\n\nMitwirkende: Vero
 nika Wiggert\n\n„Die Klima-Checker: Schluss mit Plastik“ ist ein Umwel
 tkrimi für Kinder. Darin legen die drei Freunde Malin\, Trixie und Einste
 in nicht nur fiesen Plastikbetrügern das Handwerk\, sondern machen sich a
 uch Gedanken um ihre Zukunft. Neben der kurzweiligen Geschichte soll es be
 i der Lesung auch um die Erfahrungen der jungen ZuhörerInnen gehen\, die 
 sie mit Umweltschutz und Plastikvermeidung gemacht haben.\n\nOrganisatione
 n: Kulturzentrum Trudering\n\nEintrittspreis | Erwachsene 12\,00 E\, Kinde
 r 6\,00 E\n\nLink zur Veranstaltung: www.kulturzentrum-trudering.de\n\n
LOCATION:Kulturzentrum Trudering\, Wasserburger Landstraße 32\, München\,
  81825\, Deutschland
X-APPLE-STRUCTURED-LOCATION;VALUE=URI;X-ADDRESS=Wasserburger Landstraße 32
 \, München\, 81825\, Deutschland;X-APPLE-RADIUS=100;X-TITLE=Kulturzentrum
  Trudering:geo:0,0
END:VEVENT
BEGIN:VTIMEZONE
TZID:Europe/Berlin
X-LIC-LOCATION:Europe/Berlin
BEGIN:DAYLIGHT
DTSTART:20220327T030000
TZOFFSETFROM:+0100
TZOFFSETTO:+0200
TZNAME:CEST
END:DAYLIGHT
END:VTIMEZONE
END:VCALENDAR