BEGIN:VCALENDAR
VERSION:2.0
PRODID:-//wp-events-plugin.com//7.2.3.1//EN
TZID:Europe/Berlin
X-WR-TIMEZONE:Europe/Berlin
BEGIN:VEVENT
UID:16@schriftsteller-bayern.de
DTSTART;TZID=Europe/Berlin:20220408T200000
DTEND;TZID=Europe/Berlin:20220408T200000
DTSTAMP:20220312T205500Z
URL:https://schriftsteller-bayern.de/events/konzert-wellbappn-programm-did
 l-dudl/
SUMMARY:Konzert: Wellbappn\, Programm „Didl Dudl“
DESCRIPTION: Fotos: Martin Bolle\nMitwirkende: Hans Well &amp\; Wellbappn\n
 \nTrotz der zunehmenden Senilität ihres greisen Vaters Hans Well lassen s
 ein unermüdlich geistreicher Nachwuchs Sarah\, Tabea und Jonas Well ihn i
 mmer wieder texten und retten seine wirren Zeilen dann durch eine ohrensch
 mausige Vertonung.\n\nMit dem Programm Didl-Dudl wird der internationale D
 urchbruch in Ober-Unter-Nieder-und Hinterbayern\,Groß-Mittel-Franken und 
 Schwaben frühestens 2022 einhalb erwartet.\n\nOrganisationen: Kulturamt d
 er Stadt Freising\n\nEintrittspreis | 2 Kategorien: 22\,00 € + 18\,00 
 €\n\nKartenvorverkauf: tickets.vibus.de\n\nLink zur Veranstaltung auf de
 n Seiten der Stadt Freising\n\n
LOCATION:Luitpoldhalle\, Luitpoldstrasse 1\, Freising\, 85356 \, Deutschlan
 d
X-APPLE-STRUCTURED-LOCATION;VALUE=URI;X-ADDRESS=Luitpoldstrasse 1\, Freisin
 g\, 85356 \, Deutschland;X-APPLE-RADIUS=100;X-TITLE=Luitpoldhalle:geo:0,0
END:VEVENT
BEGIN:VTIMEZONE
TZID:Europe/Berlin
X-LIC-LOCATION:Europe/Berlin
BEGIN:DAYLIGHT
DTSTART:20220327T030000
TZOFFSETFROM:+0100
TZOFFSETTO:+0200
TZNAME:CEST
END:DAYLIGHT
END:VTIMEZONE
END:VCALENDAR