BEGIN:VCALENDAR
VERSION:2.0
PRODID:-//wp-events-plugin.com//7.2.3.1//EN
TZID:Europe/Berlin
X-WR-TIMEZONE:Europe/Berlin
BEGIN:VEVENT
UID:13@schriftsteller-bayern.de
DTSTART;TZID=Europe/Berlin:20220406T180000
DTEND;TZID=Europe/Berlin:20220406T180000
DTSTAMP:20220312T205051Z
URL:https://schriftsteller-bayern.de/events/poetry-slam-carl-goes-green/
SUMMARY:Poetry Slam: Carl GOes Green. Geschichten im Grünen
DESCRIPTION:Mitwirkende: Green Office der HSWT\nMarco Enders\, Laura Enzber
 ger\, Lisa Selbmann\, Andreas Wolff\, Lisa Lunz\n\nCarl GOes Green! Zur di
 esjährigen Geburtstagsfeier von Carl Amery\, dem bekannten deutschen Schr
 iftsteller\, Politiker und Naturschützer\, veranstaltet das Green Office 
 der HSWT im Hofgarten Weihenstephan einen Poetry Slam im Grünen. Studiere
 nde präsentieren hier ihre selbstgeschriebenen Geschichten und laden Euch
  ein\, in eine Welt der Poesie einzutauchen.\n\nOrganisationen: Green Offi
 ce\, HSWT\n\nEintritt | frei\n\nHofgarten Weihenstephan / bei schlechtem W
 etter innen\n\nLink zur Veranstaltung bei HSWT\n\n
LOCATION:Hofgarten Weihenstephan\, Am Staudengarten 7\, Freising \, 85354\,
  Deutschland
X-APPLE-STRUCTURED-LOCATION;VALUE=URI;X-ADDRESS=Am Staudengarten 7\, Freisi
 ng \, 85354\, Deutschland;X-APPLE-RADIUS=100;X-TITLE=Hofgarten Weihensteph
 an:geo:0,0
END:VEVENT
BEGIN:VTIMEZONE
TZID:Europe/Berlin
X-LIC-LOCATION:Europe/Berlin
BEGIN:DAYLIGHT
DTSTART:20220327T030000
TZOFFSETFROM:+0100
TZOFFSETTO:+0200
TZNAME:CEST
END:DAYLIGHT
END:VTIMEZONE
END:VCALENDAR