BEGIN:VCALENDAR
VERSION:2.0
PRODID:-//wp-events-plugin.com//7.2.3.1//EN
TZID:Europe/Berlin
X-WR-TIMEZONE:Europe/Berlin
BEGIN:VEVENT
UID:19@schriftsteller-bayern.de
DTSTART;TZID=Europe/Berlin:20220409T200000
DTEND;TZID=Europe/Berlin:20220409T200000
DTSTAMP:20220312T205727Z
URL:https://schriftsteller-bayern.de/events/verleihung-carl-amery-preis-20
 22/
SUMMARY:Verleihung des Carl-Amery-Preises 2022
DESCRIPTION:Mitwirkende: Preisträgerin Judith Schalansky\, Laudatorin Jutt
 a Person\, Begrüßung durch den Landesvorsitzenden des VS\, Arwed Vogel. 
 Musik: Ricardo Volkert.\n\nDie Trägerin des Carl-Amery-Literaturpreises 2
 022 ist die Autorin Judith Schalansky.\n\nDie Jury\, bestehend aus Knut Co
 rdsen\, Dr. Thomas Kraft\, Krystyna Kuhn\, Christof Bultmann und der letzt
 en Preisträgerin Karen Duve\, begründet ihre Wahl wie folgt:\n„Judith 
 Schalansky erkundet in ihren mitunter ins Fantastische ausgreifenden Erzä
 hlungen unser Dasein\, legt betörende Atlanten und so kluge wie eigenwill
 ige Verzeichnisse von verlorenen und vergessenen Geschichten von Menschen 
 und Gegenständen an. Als poetische Archivarin sammelt sie gern naturwisse
 nschaftliche Fundstücke\, macht aber auch vor Fabelwesen nicht Halt. So s
 ind ihre Bücher kleine Wunderkammern der Weltentdeckung\, in denen Thema 
 und Form auf wunderbare Weise miteinander interagieren. Ihre Texte bieten 
 in ihrer nahezu mathematischen Strenge den Lesern und Leserinnen einen Hal
 t durch Ordnung und Verlässlichkeit\, den das häufige Thema dieser Gesch
 ichten – die Vergänglichkeit – schon im voraus als illusorisch entlar
 vt hat. Als Herausgeberin und Gestalterin der Reihe Naturkunden erweist si
 e sich zudem als zutiefst ökologisch interessierte Autorin im Sinne Carl 
 Amerys\, die dem nature writing einen festen Platz in der deutschsprachige
 n Literatur sichert.“\nDer Carl-Amery-Literaturpreis wird seit 2007 alle
  zwei Jahre vom Verband deutscher Schriftsteller in Bayern vergeben\, mit 
 Unterstützung des Luchterhand Literaturverlages und von ver.di Bayern. De
 r Preis ist mit 6 000 Euro dotiert. Die bisherigen Preisträger sind Ferid
 un Zaimoglu (2007)\, Juli Zeh (2009)\, Ilija Trojanow (2011)\, Ulrich Pelt
 zer (2013)\, Norbert Niemann (2015)\, Thomas von Steinaecker (2017) und Ka
 ren Duve (2019).\n\nMit dem Carl-Amery-Literaturpreis werden deutschsprach
 ige Autorinnen und Autoren für ihr Werk ausgezeichnet\, in dem eine zeitk
 ritische Literatur neue ästhetische Wege zu gehen und damit das Spektrum 
 literarischer Möglichkeiten zu erweitern sucht.\n\nDer Preis soll an den 
 Münchner Schriftsteller Carl Amery (1922-2005) und sein Lebenswerk erinne
 rn. Amerys kritische Auseinandersetzung mit restaurativen Tendenzen in Ges
 ellschaft und Kirche und sein publizistischer Einsatz für eine friedliche
  und ökologisch vernünftig gestaltete Welt haben Maßstäbe gesetzt.\n\n
 Mit freundlicher Unterstützung von ver.di Bayern\, des Luchterhand Litera
 turverlags und des Kulturreferats der LH München\n\nAnsprechpartner: Dr. 
 Thomas Kraft\, Panoramastr. 27a\, 82211 Herrsching. Tel.: 08152/9827044\, 
 mail@thomas-kraft.net\nPresseanfragen zu Carl Amery richten Sie bitte an: 
 Karsten Rösel\, Luchterhand Literaturverlag\, karsten.roesel@luchterhand-
 verlag.de Tel.: +49 (0)89/ 4136 – 3752\nPresseanfragen zu Judith Schalan
 sky richten Sie bitte an: Dr. Tanja Postpischil\, Suhrkamp Verlag\, 030-74
 0744-290\, postpischil@suhrkamp.de\n\nOrganisationen: Verband Deutscher Sc
 hriftstellerinnen und Schriftsteller in Zusammenarbeit mit ver.di\, Luchte
 rhand-Verlag und Landeshauptstadt München\n\nEintritt | frei\n\nAnfahrt: 
 U-Bahn: Odeonsplatz (U3/U6\, U4/U5)\n\n
LOCATION:Literaturhaus München\, Saal\, Salvatorplatz 1\, München\, 80333
  \, Deutschland
X-APPLE-STRUCTURED-LOCATION;VALUE=URI;X-ADDRESS=Salvatorplatz 1\, München\
 , 80333 \, Deutschland;X-APPLE-RADIUS=100;X-TITLE=Literaturhaus München\,
  Saal:geo:0,0
END:VEVENT
BEGIN:VTIMEZONE
TZID:Europe/Berlin
X-LIC-LOCATION:Europe/Berlin
BEGIN:DAYLIGHT
DTSTART:20220327T030000
TZOFFSETFROM:+0100
TZOFFSETTO:+0200
TZNAME:CEST
END:DAYLIGHT
END:VTIMEZONE
END:VCALENDAR